BEGIN:VCALENDAR
PRODID:-//eluceo/ical//2.0/EN
VERSION:2.0
CALSCALE:GREGORIAN
BEGIN:VEVENT
UID:377d0b3472e5d1c8dcd4ff44792cea9a
DTSTAMP:20260421T013432Z
SUMMARY:JCC - Central MA Jewish Film Kickoff
DESCRIPTION:Jewish Federation of Central Massachusetts\nCalendar\nhttps://j
 ewishcentralmass.org/calendar/jcc-central-ma-jewish-film-kickoff\n\nJCC - 
 Central MA Jewish Film Kickoff\n\nCentral Mass Virtual Jewish Film Festiva
 l (in partnership with JCC North Shore)\, April 24- May 6
DTSTART;TZID=America/New_York:20220424T130000
DTEND;TZID=America/New_York:20220424T170000
END:VEVENT
END:VCALENDAR
