BEGIN:VCALENDAR
PRODID:-//eluceo/ical//2.0/EN
VERSION:2.0
CALSCALE:GREGORIAN
BEGIN:VEVENT
UID:b3cf0ec217fe336cc424d0b1030bf6b1
DTSTAMP:20260422T071521Z
SUMMARY:JCC Canasta
DESCRIPTION:Jewish Federation of Central Massachusetts\nCalendar\nhttps://j
 ewishcentralmass.org/calendar/jcc-canasta\n\nJCC Canasta 11-12pm
DTSTART;TZID=America/New_York:20201021T110000
DTEND;TZID=America/New_York:20201021T120000
END:VEVENT
END:VCALENDAR
