BEGIN:VCALENDAR
PRODID:-//eluceo/ical//2.0/EN
VERSION:2.0
CALSCALE:GREGORIAN
BEGIN:VEVENT
UID:1557180aa06a10b9ece7d5bc698f38f0
DTSTAMP:20260423T235923Z
SUMMARY:JCC Camp Kickoff
DESCRIPTION:Jewish Federation of Central Massachusetts\nCalendar\nhttps://j
 ewishcentralmass.org/calendar/jcc-camp-kickoff\n\nJCC Camp Kickoff
DTSTART;TZID=America/New_York:20220227T110000
DTEND;TZID=America/New_York:20220227T150000
END:VEVENT
END:VCALENDAR
