BEGIN:VCALENDAR
PRODID:-//eluceo/ical//2.0/EN
VERSION:2.0
CALSCALE:GREGORIAN
BEGIN:VEVENT
UID:482da91f91e7a0a07fa1f130adc6f3df
DTSTAMP:20260422T180106Z
SUMMARY:JCC Book Author - Judy Ferrara
DESCRIPTION:Jewish Federation of Central Massachusetts\nCalendar\nhttps://j
 ewishcentralmass.org/calendar/jcc-book-author-judy-ferrara\n\nJCC Book Aut
 hor - Judy Ferrara\n\n7:00 pm
DTSTART;TZID=America/New_York:20230912T190000
DTEND;TZID=America/New_York:20230912T210000
END:VEVENT
END:VCALENDAR
