BEGIN:VCALENDAR
PRODID:-//eluceo/ical//2.0/EN
VERSION:2.0
CALSCALE:GREGORIAN
BEGIN:VEVENT
UID:4cb016a9a8c72c6538b3408b5eeaf0d7
DTSTAMP:20260423T003238Z
SUMMARY:JCC Board Meeting - September
DESCRIPTION:Jewish Federation of Central Massachusetts\nCalendar\nhttps://j
 ewishcentralmass.org/calendar/jcc-board-meeting-september\n\nJCC Board Mee
 ting - September
DTSTART;TZID=America/New_York:20200930T193000
DTEND;TZID=America/New_York:20200930T213000
END:VEVENT
END:VCALENDAR
