BEGIN:VCALENDAR
PRODID:-//eluceo/ical//2.0/EN
VERSION:2.0
CALSCALE:GREGORIAN
BEGIN:VEVENT
UID:2bdfa1680cd00c6ec38901330f0aa951
DTSTAMP:20260423T110903Z
SUMMARY:JCC Board Meeting - May
DESCRIPTION:Jewish Federation of Central Massachusetts\nCalendar\nhttps://j
 ewishcentralmass.org/calendar/jcc-board-meeting-may\n\nJCC Board Meeting -
  May
DTSTART;TZID=America/New_York:20210526T193000
DTEND;TZID=America/New_York:20210526T213000
END:VEVENT
END:VCALENDAR
