BEGIN:VCALENDAR
PRODID:-//eluceo/ical//2.0/EN
VERSION:2.0
CALSCALE:GREGORIAN
BEGIN:VEVENT
UID:b0f7eba3bf07909f0a1afdc7ae3ac99b
DTSTAMP:20260423T025233Z
SUMMARY:JCC Board Meeting - March
DESCRIPTION:Jewish Federation of Central Massachusetts\nCalendar\nhttps://j
 ewishcentralmass.org/calendar/jcc-board-meeting-march\n\nJCC Board Meeting
  - March
DTSTART;TZID=America/New_York:20210303T193000
DTEND;TZID=America/New_York:20210303T213000
END:VEVENT
END:VCALENDAR
