BEGIN:VCALENDAR
PRODID:-//eluceo/ical//2.0/EN
VERSION:2.0
CALSCALE:GREGORIAN
BEGIN:VEVENT
UID:892eedf95a4d2134cfdd574d81ddf6a2
DTSTAMP:20260423T111531Z
SUMMARY:JCC Board Meeting - January
DESCRIPTION:Jewish Federation of Central Massachusetts\nCalendar\nhttps://j
 ewishcentralmass.org/calendar/jcc-board-meeting-january\n\nJCC Board Meeti
 ng - January
DTSTART;TZID=America/New_York:20210106T193000
DTEND;TZID=America/New_York:20210106T213000
END:VEVENT
END:VCALENDAR
