BEGIN:VCALENDAR
PRODID:-//eluceo/ical//2.0/EN
VERSION:2.0
CALSCALE:GREGORIAN
BEGIN:VEVENT
UID:bbfe0763d2536adc5c8a8f004b7ca1da
DTSTAMP:20260421T021915Z
SUMMARY:JCC Board Meeting - December
DESCRIPTION:Jewish Federation of Central Massachusetts\nCalendar\nhttps://j
 ewishcentralmass.org/calendar/jcc-board-meeting-december\n\nJCC Board Meet
 ing - December
DTSTART;TZID=America/New_York:20201202T193000
DTEND;TZID=America/New_York:20201202T213000
END:VEVENT
END:VCALENDAR
