BEGIN:VCALENDAR
PRODID:-//eluceo/ical//2.0/EN
VERSION:2.0
CALSCALE:GREGORIAN
BEGIN:VEVENT
UID:e73b248283e2b09a75672c9d40b13d0a
DTSTAMP:20260421T180118Z
SUMMARY:JCC Board Meeting - April
DESCRIPTION:Jewish Federation of Central Massachusetts\nCalendar\nhttps://j
 ewishcentralmass.org/calendar/jcc-board-meeting-april\n\nJCC Board Meeting
  - April
DTSTART;TZID=America/New_York:20210428T193000
DTEND;TZID=America/New_York:20210428T213000
END:VEVENT
END:VCALENDAR
