BEGIN:VCALENDAR
PRODID:-//eluceo/ical//2.0/EN
VERSION:2.0
CALSCALE:GREGORIAN
BEGIN:VEVENT
UID:4e42b08b40fa1cf8f325c938802ddf0a
DTSTAMP:20260421T232932Z
SUMMARY:JCC Board Annual Meeting 2023
DESCRIPTION:Jewish Federation of Central Massachusetts\nCalendar\nhttps://j
 ewishcentralmass.org/calendar/jcc-board-annual-meeting-2023\n\nJCC Board A
 nnual Meeting\n\n6:00 pm
DTSTART;TZID=America/New_York:20230615T180000
DTEND;TZID=America/New_York:20230615T200000
END:VEVENT
END:VCALENDAR
