BEGIN:VCALENDAR
PRODID:-//eluceo/ical//2.0/EN
VERSION:2.0
CALSCALE:GREGORIAN
BEGIN:VEVENT
UID:d245fbcaae9680aac95d02a76018572b
DTSTAMP:20260421T174854Z
SUMMARY:JCC Author Series Zoom - Joseph\, Barry
DESCRIPTION:Jewish Federation of Central Massachusetts\nCalendar\nhttps://j
 ewishcentralmass.org/calendar/jcc-author-series-zoom-joseph-barry\n\nJCC A
 uthor Series Zoom -\n\n06-11-2026\n7:00 PM ET\nJoseph\, Barry\nMatching Mi
 nds with Sondheim: The Puzzles and Games of the Broadway Legend
DTSTART;TZID=America/New_York:20260611T190000
DTEND;TZID=America/New_York:20260611T210000
END:VEVENT
END:VCALENDAR
