BEGIN:VCALENDAR
PRODID:-//eluceo/ical//2.0/EN
VERSION:2.0
CALSCALE:GREGORIAN
BEGIN:VEVENT
UID:13b1ba06e724ded4ee9a7a5af1b39e6d
DTSTAMP:20260423T034038Z
SUMMARY:JCC Author Series Zoom - Cockerell\, Rachel
DESCRIPTION:Jewish Federation of Central Massachusetts\nCalendar\nhttps://j
 ewishcentralmass.org/calendar/jcc-author-series-zoom-cockerell-rachel\n\nJ
 CC Author Series Zoom -\n\n05-14-2026\n7:00 PM ET\nCockerell\, Rachel\nMel
 ting Point: Family\, Memory\, and the Search for a Promised Land
DTSTART;TZID=America/New_York:20260514T190000
DTEND;TZID=America/New_York:20260514T210000
END:VEVENT
END:VCALENDAR
