BEGIN:VCALENDAR
PRODID:-//eluceo/ical//2.0/EN
VERSION:2.0
CALSCALE:GREGORIAN
BEGIN:VEVENT
UID:c634b15df987bd693cdcc8d4a2ccd3ae
DTSTAMP:20260425T183913Z
SUMMARY:JCC Author Series (tent)
DESCRIPTION:Jewish Federation of Central Massachusetts\nCalendar\nhttps://j
 ewishcentralmass.org/calendar/jcc-author-series-tent\n\nJCC Author Series
DTSTART;TZID=America/New_York:20210325T190000
DTEND;TZID=America/New_York:20210325T210000
END:VEVENT
END:VCALENDAR
