BEGIN:VCALENDAR
PRODID:-//eluceo/ical//2.0/EN
VERSION:2.0
CALSCALE:GREGORIAN
BEGIN:VEVENT
UID:bccd14958a60bcc385c048bd5ef3abda
DTSTAMP:20260422T100956Z
SUMMARY:JCC Author Series - Talia Carner\, The Third Daughter
DESCRIPTION:Jewish Federation of Central Massachusetts\nCalendar\nhttps://j
 ewishcentralmass.org/calendar/jcc-author-series-talia-carner-the-third-dau
 ghter\n\nJCC Author Series - Talia Carner\, The Third Daughter\n\nThursday
 \, March 11 at 3pm via Zoom
DTSTART;TZID=America/New_York:20210311T150000
DTEND;TZID=America/New_York:20210311T160000
END:VEVENT
END:VCALENDAR
