BEGIN:VCALENDAR
PRODID:-//eluceo/ical//2.0/EN
VERSION:2.0
CALSCALE:GREGORIAN
BEGIN:VEVENT
UID:9f1ae4e95beb90d26a1caf917b70dee2
DTSTAMP:20260422T121455Z
SUMMARY:JCC Author Series - Rabbi Laura Geller
DESCRIPTION:Jewish Federation of Central Massachusetts\nCalendar\nhttps://j
 ewishcentralmass.org/calendar/jcc-author-series-rabbi-laura-geller\n\nThe 
 JCC\, Temple Emanuel Sinai\, Congregation Beth Israel\, Congregation B’n
 ai Shalom and JFCM present this upcoming virtual program: Rabbi Laura Gell
 er\; Author of Getting Good at Getting Older Sunday\, March 21 @ 11am on Z
 oom and Facebook LIve
DTSTART;TZID=America/New_York:20210321T110000
DTEND;TZID=America/New_York:20210321T130000
END:VEVENT
END:VCALENDAR
