BEGIN:VCALENDAR
PRODID:-//eluceo/ical//2.0/EN
VERSION:2.0
CALSCALE:GREGORIAN
BEGIN:VEVENT
UID:24ac09e7f5bfcf574bb9676fca953986
DTSTAMP:20260422T120735Z
SUMMARY:JCC Author Series presents Michael Satlow
DESCRIPTION:Jewish Federation of Central Massachusetts\nCalendar\nhttps://j
 ewishcentralmass.org/calendar/jcc-author-series-presents-michael-satlow\n\
 nMichael Satlow
DTSTART;TZID=America/New_York:20150208T100000
DTEND;TZID=America/New_York:20150208T120000
END:VEVENT
END:VCALENDAR
