BEGIN:VCALENDAR
PRODID:-//eluceo/ical//2.0/EN
VERSION:2.0
CALSCALE:GREGORIAN
BEGIN:VEVENT
UID:1f50ce352ec7394db0ebdc0de11f1b66
DTSTAMP:20260421T004759Z
SUMMARY:JCC Author Series presents Laura Silver
DESCRIPTION:Jewish Federation of Central Massachusetts\nCalendar\nhttps://j
 ewishcentralmass.org/calendar/jcc-author-series-presents-laura-silver\n\nL
 aura Silver
DTSTART;TZID=America/New_York:20141209T190000
DTEND;TZID=America/New_York:20141209T210000
END:VEVENT
END:VCALENDAR
