BEGIN:VCALENDAR
PRODID:-//eluceo/ical//2.0/EN
VERSION:2.0
CALSCALE:GREGORIAN
BEGIN:VEVENT
UID:b0d188e7c658a8ca722a9fcd3ca89c7f
DTSTAMP:20260422T174850Z
SUMMARY:JCC Author Series presents Everett Fox
DESCRIPTION:Jewish Federation of Central Massachusetts\nCalendar\nhttps://j
 ewishcentralmass.org/calendar/jcc-author-series-presents-everett-fox\n\nEv
 erett Fox
DTSTART;TZID=America/New_York:20150118T100000
DTEND;TZID=America/New_York:20150118T120000
END:VEVENT
END:VCALENDAR
