BEGIN:VCALENDAR
PRODID:-//eluceo/ical//2.0/EN
VERSION:2.0
CALSCALE:GREGORIAN
BEGIN:VEVENT
UID:914146f3ca9a4c78c3305b97a18401d5
DTSTAMP:20260423T174333Z
SUMMARY:JCC Author Series presents David Kertzer
DESCRIPTION:Jewish Federation of Central Massachusetts\nCalendar\nhttps://j
 ewishcentralmass.org/calendar/jcc-author-series-presents-david-kertzer\n\n
 David Kertzer
DTSTART;TZID=America/New_York:20150224T193000
DTEND;TZID=America/New_York:20150224T210000
END:VEVENT
END:VCALENDAR
