BEGIN:VCALENDAR
PRODID:-//eluceo/ical//2.0/EN
VERSION:2.0
CALSCALE:GREGORIAN
BEGIN:VEVENT
UID:db5710da937b91221bbde028d5a80710
DTSTAMP:20260424T104732Z
SUMMARY:JCC Author Series - October 2024
DESCRIPTION:Jewish Federation of Central Massachusetts\nCalendar\nhttps://j
 ewishcentralmass.org/calendar/jcc-author-series-october-2024\n\nJCC Author
  Series - October 2024\n\n7:00 pm\n\nLocation: TBD
DTSTART;TZID=America/New_York:20241029T190000
DTEND;TZID=America/New_York:20241029T210000
END:VEVENT
END:VCALENDAR
