BEGIN:VCALENDAR
PRODID:-//eluceo/ical//2.0/EN
VERSION:2.0
CALSCALE:GREGORIAN
BEGIN:VEVENT
UID:060704731d0619ab3e5e77870e8170db
DTSTAMP:20260424T130641Z
SUMMARY:JCC Author Series - November 9
DESCRIPTION:Jewish Federation of Central Massachusetts\nCalendar\nhttps://j
 ewishcentralmass.org/calendar/jcc-author-series-november-9\n\nJCC Author S
 eries\n\nhttps://www.worcesterjcc.org/index.php?submenu=AuthorSeries&src=g
 endocs&ref=AuthorSeries&link=AuthorSeries
DTSTART;TZID=America/New_York:20211109T190000
DTEND;TZID=America/New_York:20211109T210000
END:VEVENT
END:VCALENDAR
