BEGIN:VCALENDAR
PRODID:-//eluceo/ical//2.0/EN
VERSION:2.0
CALSCALE:GREGORIAN
BEGIN:VEVENT
UID:69b8a3ad6cb4404da98823efb9bcffd5
DTSTAMP:20260422T235208Z
SUMMARY:JCC Author Series - November 18
DESCRIPTION:Jewish Federation of Central Massachusetts\nCalendar\nhttps://j
 ewishcentralmass.org/calendar/jcc-author-series-november-18\n\nJCC Author 
 Series\n\nhttps://www.worcesterjcc.org/index.php?submenu=AuthorSeries&src=
 gendocs&ref=AuthorSeries&link=AuthorSeries
DTSTART;TZID=America/New_York:20211118T190000
DTEND;TZID=America/New_York:20211118T210000
END:VEVENT
END:VCALENDAR
