BEGIN:VCALENDAR
PRODID:-//eluceo/ical//2.0/EN
VERSION:2.0
CALSCALE:GREGORIAN
BEGIN:VEVENT
UID:e689b187c7c6c7f77957276a4e003634
DTSTAMP:20260422T161353Z
SUMMARY:JCC Author Series - May 2022
DESCRIPTION:Jewish Federation of Central Massachusetts\nCalendar\nhttps://j
 ewishcentralmass.org/calendar/jcc-author-series-may-2022\n\nJCC Author Ser
 ies\n\nhttps://www.worcesterjcc.org/index.php?submenu=AuthorSeries&src=gen
 docs&ref=AuthorSeries&link=AuthorSeries
DTSTART;TZID=America/New_York:20220512T190000
DTEND;TZID=America/New_York:20220512T210000
END:VEVENT
END:VCALENDAR
