BEGIN:VCALENDAR
PRODID:-//eluceo/ical//2.0/EN
VERSION:2.0
CALSCALE:GREGORIAN
BEGIN:VEVENT
UID:97ca69e1dbf002a9f50e65acfb2f996c
DTSTAMP:20260423T111311Z
SUMMARY:JCC Author Series - January 2022
DESCRIPTION:Jewish Federation of Central Massachusetts\nCalendar\nhttps://j
 ewishcentralmass.org/calendar/jcc-author-series-january-2022\n\nJCC Author
  Series\n\nhttps://www.worcesterjcc.org/index.php?submenu=AuthorSeries&src
 =gendocs&ref=AuthorSeries&link=AuthorSeries
DTSTART;TZID=America/New_York:20220106T140000
DTEND;TZID=America/New_York:20220106T150000
END:VEVENT
END:VCALENDAR
