BEGIN:VCALENDAR
PRODID:-//eluceo/ical//2.0/EN
VERSION:2.0
CALSCALE:GREGORIAN
BEGIN:VEVENT
UID:1cf150de479ee687fb173e7362c9ef52
DTSTAMP:20260420T190634Z
SUMMARY:JCC Author Series for Parents with PJ/PJOW and CBS
DESCRIPTION:Jewish Federation of Central Massachusetts\nCalendar\nhttps://j
 ewishcentralmass.org/calendar/jcc-author-series-for-parents-with-pjpjow-an
 d-cbs\n\nJCC Author Series for Parents with PJ/PJOW and CBS
DTSTART;TZID=America/New_York:20200126T100000
DTEND;TZID=America/New_York:20200126T120000
END:VEVENT
END:VCALENDAR
