BEGIN:VCALENDAR
PRODID:-//eluceo/ical//2.0/EN
VERSION:2.0
CALSCALE:GREGORIAN
BEGIN:VEVENT
UID:854f38711e9759193482ca0bb1896b76
DTSTAMP:20260423T161655Z
SUMMARY:JCC Author Series - February 10
DESCRIPTION:Jewish Federation of Central Massachusetts\nCalendar\nhttps://j
 ewishcentralmass.org/calendar/jcc-author-series-february-10\n\nJCC Author 
 Series\n\nhttps://www.worcesterjcc.org/index.php?submenu=AuthorSeries&src=
 gendocs&ref=AuthorSeries&link=AuthorSeries
DTSTART;TZID=America/New_York:20220210T140000
DTEND;TZID=America/New_York:20220210T160000
END:VEVENT
END:VCALENDAR
