BEGIN:VCALENDAR
PRODID:-//eluceo/ical//2.0/EN
VERSION:2.0
CALSCALE:GREGORIAN
BEGIN:VEVENT
UID:6c35dc808192dd754c2d1283a6bd85e0
DTSTAMP:20260421T011238Z
SUMMARY:JCC Author Series at TES - December 2024
DESCRIPTION:Jewish Federation of Central Massachusetts\nCalendar\nhttps://j
 ewishcentralmass.org/calendar/jcc-author-series-at-tes-december-2024\n\nDa
 niel Schulman\, author of The Money Kings: The Epic Story of the Jewish Im
 migrants Who Transformed Wall Street and Shaped Modern America\, December 
 15 @ 10am\, at Temple Emanuel Sinai
DTSTART;TZID=America/New_York:20241215T100000
DTEND;TZID=America/New_York:20241215T120000
END:VEVENT
END:VCALENDAR
