BEGIN:VCALENDAR
PRODID:-//eluceo/ical//2.0/EN
VERSION:2.0
CALSCALE:GREGORIAN
BEGIN:VEVENT
UID:a1902b7740c91d3fba0b3dbaef7cdd51
DTSTAMP:20260420T165906Z
SUMMARY:JCC Author Series - April 2022
DESCRIPTION:Jewish Federation of Central Massachusetts\nCalendar\nhttps://j
 ewishcentralmass.org/calendar/jcc-author-series-april-2022\n\nJCC Author S
 eries\n\nhttps://www.worcesterjcc.org/index.php?submenu=AuthorSeries&src=g
 endocs&ref=AuthorSeries&link=AuthorSeries\n\nWorcester JCC Virtual Author 
 Series\, Thursday\, April 7 @ 2 pm\, Mark Gerson\, author of The Telling
 :  Judaism’s Essential Book Reveals the Meaning of Life
DTSTART;TZID=America/New_York:20220407T140000
DTEND;TZID=America/New_York:20220407T150000
END:VEVENT
END:VCALENDAR
