BEGIN:VCALENDAR
PRODID:-//eluceo/ical//2.0/EN
VERSION:2.0
CALSCALE:GREGORIAN
BEGIN:VEVENT
UID:38124980210fd6825a2b8fa0e79fcfd3
DTSTAMP:20260422T160709Z
SUMMARY:JCC Author Series 8
DESCRIPTION:Jewish Federation of Central Massachusetts\nCalendar\nhttps://j
 ewishcentralmass.org/calendar/jcc-author-series-8\n\nJCC Author Series
DTSTART;TZID=America/New_York:20210224T190000
DTEND;TZID=America/New_York:20210224T210000
END:VEVENT
END:VCALENDAR
