BEGIN:VCALENDAR
PRODID:-//eluceo/ical//2.0/EN
VERSION:2.0
CALSCALE:GREGORIAN
BEGIN:VEVENT
UID:dab18f579bfc7c8cac7f8d34deb15d81
DTSTAMP:20260422T133447Z
SUMMARY:JCC Author Series 6
DESCRIPTION:Jewish Federation of Central Massachusetts\nCalendar\nhttps://j
 ewishcentralmass.org/calendar/jcc-author-series-6\n\nJCC Author Series
DTSTART;TZID=America/New_York:20210202T190000
DTEND;TZID=America/New_York:20210202T210000
END:VEVENT
END:VCALENDAR
