BEGIN:VCALENDAR
PRODID:-//eluceo/ical//2.0/EN
VERSION:2.0
CALSCALE:GREGORIAN
BEGIN:VEVENT
UID:2d5e19c1ba8296d0680dc58db56eb3c9
DTSTAMP:20260423T152808Z
SUMMARY:JCC Author Series 5
DESCRIPTION:Jewish Federation of Central Massachusetts\nCalendar\nhttps://j
 ewishcentralmass.org/calendar/jcc-author-series-5\n\nJCC Author Series
DTSTART;TZID=America/New_York:20210114T180000
DTEND;TZID=America/New_York:20210114T200000
END:VEVENT
END:VCALENDAR
