BEGIN:VCALENDAR
PRODID:-//eluceo/ical//2.0/EN
VERSION:2.0
CALSCALE:GREGORIAN
BEGIN:VEVENT
UID:17c070ae2165f568730a55dfc7a35e4a
DTSTAMP:20260426T003742Z
SUMMARY:JCC Author Series 2
DESCRIPTION:Jewish Federation of Central Massachusetts\nCalendar\nhttps://j
 ewishcentralmass.org/calendar/jcc-author-series-2\n\nJCC Author Series
DTSTART;TZID=America/New_York:20201105T180000
DTEND;TZID=America/New_York:20201105T200000
END:VEVENT
END:VCALENDAR
