BEGIN:VCALENDAR
PRODID:-//eluceo/ical//2.0/EN
VERSION:2.0
CALSCALE:GREGORIAN
BEGIN:VEVENT
UID:cbcdad34b70e805a1b9e67335d3981d1
DTSTAMP:20260424T070857Z
SUMMARY:JCC Author Program - Nov 2023
DESCRIPTION:Jewish Federation of Central Massachusetts\nCalendar\nhttps://j
 ewishcentralmass.org/calendar/jcc-author-program-nov-2023\n\nWednesday\, N
 ovember 29th @ 7pm\, Free Temple Emanuel Sinai\, 661 Salisbury St.\, Worce
 ster
DTSTART;TZID=America/New_York:20231129T190000
DTEND;TZID=America/New_York:20231129T210000
END:VEVENT
END:VCALENDAR
