BEGIN:VCALENDAR
PRODID:-//eluceo/ical//2.0/EN
VERSION:2.0
CALSCALE:GREGORIAN
BEGIN:VEVENT
UID:de060910cf19a765cb6ef78787025d07
DTSTAMP:20260421T170344Z
SUMMARY:JCC Author Program 1
DESCRIPTION:Jewish Federation of Central Massachusetts\nCalendar\nhttps://j
 ewishcentralmass.org/calendar/jcc-author-program-1\n\nJCC Author Program\n
 \n10:00 am
DTSTART;TZID=America/New_York:20231018T100000
DTEND;TZID=America/New_York:20231018T120000
END:VEVENT
END:VCALENDAR
