BEGIN:VCALENDAR
PRODID:-//eluceo/ical//2.0/EN
VERSION:2.0
CALSCALE:GREGORIAN
BEGIN:VEVENT
UID:842b57c33ccfa74ee6af2fcfc6ae2214
DTSTAMP:20260421T172146Z
SUMMARY:JCC Annual Meeting 2025
DESCRIPTION:Jewish Federation of Central Massachusetts\nCalendar\nhttps://j
 ewishcentralmass.org/calendar/jcc-annual-meeting-2025\n\nJCC Annual Meetin
 g\n\nTime TBA
DTSTART;TZID=America/New_York:20250611T180000
DTEND;TZID=America/New_York:20250611T200000
END:VEVENT
END:VCALENDAR
