BEGIN:VCALENDAR
PRODID:-//eluceo/ical//2.0/EN
VERSION:2.0
CALSCALE:GREGORIAN
BEGIN:VEVENT
UID:fb456eb319eed6c86559f9cca185f971
DTSTAMP:20260423T050047Z
SUMMARY:JCC Annual Meeting 2024
DESCRIPTION:Jewish Federation of Central Massachusetts\nCalendar\nhttps://j
 ewishcentralmass.org/calendar/jcc-annual-meeting-2024\n\nJCC Annual Meetin
 g \n\nTuesday\, June 18th
DTSTART;TZID=America/New_York:20240618T180000
DTEND;TZID=America/New_York:20240618T200000
END:VEVENT
END:VCALENDAR
