BEGIN:VCALENDAR
PRODID:-//eluceo/ical//2.0/EN
VERSION:2.0
CALSCALE:GREGORIAN
BEGIN:VEVENT
UID:fc2ff1b80ed8e99d13742290a6e5ea0d
DTSTAMP:20260424T164611Z
SUMMARY:JCC Annual Meeting
DESCRIPTION:Jewish Federation of Central Massachusetts\nCalendar\nhttps://j
 ewishcentralmass.org/calendar/jcc-annual-meeting\n\nJCC Annual Meeting
DTSTART;TZID=America/New_York:20210616T193000
DTEND;TZID=America/New_York:20210616T213000
END:VEVENT
END:VCALENDAR
