BEGIN:VCALENDAR
PRODID:-//eluceo/ical//2.0/EN
VERSION:2.0
CALSCALE:GREGORIAN
BEGIN:VEVENT
UID:a88345cdb4ba5d848ea8a5fed728c20c
DTSTAMP:20260422T134445Z
SUMMARY:Israeli Wine Tasting with Tommy Ben Basat
DESCRIPTION:Jewish Federation of Central Massachusetts\nCalendar\nhttps://j
 ewishcentralmass.org/calendar/israeli-wine-tasting-with-tommy\n\nIsraeli W
 ine Tasting with Tommy\n\nDetails TBA
DTSTART;TZID=America/New_York:20230122T000000
DTEND;TZID=America/New_York:20230122T000000
END:VEVENT
END:VCALENDAR
