BEGIN:VCALENDAR
PRODID:-//eluceo/ical//2.0/EN
VERSION:2.0
CALSCALE:GREGORIAN
BEGIN:VEVENT
UID:ff72e6a5bc1a147cfa6dada7f2c32ad3
DTSTAMP:20260420T170409Z
SUMMARY:Israeli Shlicha Zoom Event: Fighting Fear with Kindness
DESCRIPTION:Jewish Federation of Central Massachusetts\nCalendar\nhttps://j
 ewishcentralmass.org/calendar/israeli-shlicha-event-fighting-fear-with-kin
 dness\n\nSunday\, February 12 at 2:00 pm\n\nIsraeli Shlicha Event- Fightin
 g Fear with Kindness\n\n 
DTSTART;TZID=America/New_York:20230212T140000
DTEND;TZID=America/New_York:20230212T160000
END:VEVENT
END:VCALENDAR
