BEGIN:VCALENDAR
PRODID:-//eluceo/ical//2.0/EN
VERSION:2.0
CALSCALE:GREGORIAN
BEGIN:VEVENT
UID:b87b1b05eb084c339b532d62d2b9bd3d
DTSTAMP:20260420T112625Z
SUMMARY:Israeli Music Post October 7th
DESCRIPTION:Jewish Federation of Central Massachusetts\nCalendar\nhttps://j
 ewishcentralmass.org/calendar/israeli-music-post-october-7th\n\nSunday\, M
 arch 31 at 4:00 pm\n\nIsraeli Music Post October 7th
DTSTART;TZID=America/New_York:20240331T160000
DTEND;TZID=America/New_York:20240331T180000
END:VEVENT
END:VCALENDAR
