BEGIN:VCALENDAR
PRODID:-//eluceo/ical//2.0/EN
VERSION:2.0
CALSCALE:GREGORIAN
BEGIN:VEVENT
UID:4be7bcd95bce1c9b9e67874a4e09d128
DTSTAMP:20260422T041019Z
SUMMARY:Israeli Folk Festival at MIT
DESCRIPTION:Jewish Federation of Central Massachusetts\nCalendar\nhttps://j
 ewishcentralmass.org/calendar/israeli-folk-festival-at-mit\n\nIsraeli Folk
  Festival at MIT
DTSTART;TZID=America/New_York:20130310T000000
DTEND;TZID=America/New_York:20130310T235900
END:VEVENT
END:VCALENDAR
