BEGIN:VCALENDAR
PRODID:-//eluceo/ical//2.0/EN
VERSION:2.0
CALSCALE:GREGORIAN
BEGIN:VEVENT
UID:fbde774b6c5de7230ebbf232a3f440a5
DTSTAMP:20260423T073014Z
SUMMARY:Israeli Culture Series - virtual
DESCRIPTION:Jewish Federation of Central Massachusetts\nCalendar\nhttps://j
 ewishcentralmass.org/calendar/israeli-culture-series-virtual\n\nApril 10th
  2:00 pm- Israeli Culture Series - virtual
DTSTART;TZID=America/New_York:20220410T140000
DTEND;TZID=America/New_York:20220410T160000
END:VEVENT
END:VCALENDAR
