BEGIN:VCALENDAR
PRODID:-//eluceo/ical//2.0/EN
VERSION:2.0
CALSCALE:GREGORIAN
BEGIN:VEVENT
UID:361bb0bd27916b234cff151116ac4154
DTSTAMP:20260423T014957Z
SUMMARY:Israeli Culture Series- Israel Trivia virtual
DESCRIPTION:Jewish Federation of Central Massachusetts\nCalendar\nhttps://j
 ewishcentralmass.org/calendar/israeli-culture-series-israel-trivia-virtual
 \n\nFeb 27th 2:00 pm- Israeli Culture Series- Israel Trivia virtual
DTSTART;TZID=America/New_York:20220227T140000
DTEND;TZID=America/New_York:20220227T160000
END:VEVENT
END:VCALENDAR
