BEGIN:VCALENDAR
PRODID:-//eluceo/ical//2.0/EN
VERSION:2.0
CALSCALE:GREGORIAN
BEGIN:VEVENT
UID:f2a715d7a4fcfed5151313c243c5a3f4
DTSTAMP:20260423T043011Z
SUMMARY:Israeli Cultural Series with our Shaliach - January 23\, 2022
DESCRIPTION:Jewish Federation of Central Massachusetts\nCalendar\nhttps://j
 ewishcentralmass.org/calendar/israeli-cultural-series-with-our-shaliach-ja
 nuary-23-2022\n\nIsraeli cultural series - international Yom Hasho'a\n\n2:
 00 pm
DTSTART;TZID=America/New_York:20220123T140000
DTEND;TZID=America/New_York:20220123T160000
END:VEVENT
END:VCALENDAR
