BEGIN:VCALENDAR
PRODID:-//eluceo/ical//2.0/EN
VERSION:2.0
CALSCALE:GREGORIAN
BEGIN:VEVENT
UID:ecf768057efec839c5e21b64e26decaf
DTSTAMP:20260422T013229Z
SUMMARY:Israeli Cultural Series with Aviv - December
DESCRIPTION:Jewish Federation of Central Massachusetts\nCalendar\nhttps://j
 ewishcentralmass.org/calendar/israeli-cultural-series-with-aviv-december\n
 \nIsraeli Cultural Series with Aviv - December 12\, 2021 at 2:00 pm\n\n \
 n\nhttps://us02web.zoom.us/meeting/register/tZ0tcu-urDguH9BEFqIUIv8IOPX-cr
 zL6YsP 
DTSTART;TZID=America/New_York:20211212T140000
DTEND;TZID=America/New_York:20211212T160000
END:VEVENT
END:VCALENDAR
