BEGIN:VCALENDAR
PRODID:-//eluceo/ical//2.0/EN
VERSION:2.0
CALSCALE:GREGORIAN
BEGIN:VEVENT
UID:235977cd418e6b5ea9936cd490d0a288
DTSTAMP:20260423T003115Z
SUMMARY:Israeli cultural series - March 27\, 2022
DESCRIPTION:Jewish Federation of Central Massachusetts\nCalendar\nhttps://j
 ewishcentralmass.org/calendar/israeli-cultural-series-march-27-2022\n\nIsr
 aeli cultural series - March 27\, 2022\n\n2:00 pm
DTSTART;TZID=America/New_York:20220327T140000
DTEND;TZID=America/New_York:20220327T160000
END:VEVENT
END:VCALENDAR
