BEGIN:VCALENDAR
PRODID:-//eluceo/ical//2.0/EN
VERSION:2.0
CALSCALE:GREGORIAN
BEGIN:VEVENT
UID:0005f84eb149b15dd2abeb288605fa9c
DTSTAMP:20260422T064616Z
SUMMARY:Israeli cultural series - February 13\, 2022
DESCRIPTION:Jewish Federation of Central Massachusetts\nCalendar\nhttps://j
 ewishcentralmass.org/calendar/israeli-cultural-series-february-13-2022\n\n
 02/13 - Israeli cultural series\n\n2:00 pm
DTSTART;TZID=America/New_York:20220213T140000
DTEND;TZID=America/New_York:20220213T160000
END:VEVENT
END:VCALENDAR
