BEGIN:VCALENDAR
PRODID:-//eluceo/ical//2.0/EN
VERSION:2.0
CALSCALE:GREGORIAN
BEGIN:VEVENT
UID:a53be680a97440754f54384be7b0c6ea
DTSTAMP:20260421T030707Z
SUMMARY:Israel Bonds Reception honoring Judy & Allan Shriber
DESCRIPTION:Jewish Federation of Central Massachusetts\nCalendar\nhttps://j
 ewishcentralmass.org/calendar/israel-bonds-reception-honoring-judy-allan-s
 hriber\n\nIsrael Bond Reception Honoring Judy & Allan Shriber
DTSTART;TZID=America/New_York:20150604T180000
DTEND;TZID=America/New_York:20150604T200000
END:VEVENT
END:VCALENDAR
