BEGIN:VCALENDAR
PRODID:-//eluceo/ical//2.0/EN
VERSION:2.0
CALSCALE:GREGORIAN
BEGIN:VEVENT
UID:8834fd8fe85466666ee6dfca23ae0bf0
DTSTAMP:20260422T082751Z
SUMMARY:Israel Bond Reception honoring Dr. Sheila Trugman and Rabbi Richard
  Rudnick
DESCRIPTION:Jewish Federation of Central Massachusetts\nCalendar\nhttps://j
 ewishcentralmass.org/calendar/israel-bonds-reception-honoring-dr-sheila-tr
 ugman-and-rabbi-richard-rudnick\n\nIsrael Bond Reception honoring Dr. Shei
 la Trugman and Rabbi Richard Rudnick
DTSTART;TZID=America/New_York:20160614T180000
DTEND;TZID=America/New_York:20160614T210000
END:VEVENT
END:VCALENDAR
